BEGIN:VCALENDAR
VERSION:2.0
METHOD:PUBLISH
PRODID:-//Event-List//NONSGML Event-List 5.0.1//DE
X-WR-TIMEZONE:Europe/Berlin
CALSCALE:GREGORIAN
BEGIN:VTIMEZONE
TZID:Europe/Berlin
BEGIN:DAYLIGHT
TZOFFSETFROM:+0100
TZOFFSETTO:+0200
DTSTART:19810329T020000
RRULE:FREQ=YEARLY;BYMONTH=3;BYDAY=-1SU
TZNAME:CEST
END:DAYLIGHT
BEGIN:STANDARD
TZOFFSETFROM:+0200
TZOFFSETTO:+0100
DTSTART:19961027T030000
RRULE:FREQ=YEARLY;BYMONTH=10;BYDAY=-1SU
TZNAME:CET
END:STANDARD
END:VTIMEZONE
BEGIN:VEVENT
DTSTAMP:20260425T053925
DTSTART:20170821T170000
DTEND;VALUE=DATE:20170901
UID:42@friedensgruppe-luedenscheid.de/calendar
CLASS:PUBLIC
SUMMARY:Die Atombombe und der Mensch
DESCRIPTION:Die Ausstellung &#8222;Die Atombombe und der Mensch&#8220;
  &#8211; bestehend aus 40 Bild- und Texttafeln mit deutscher
  Übersetzung &#8211; gibt Zeugnis von dem Leid und den Qualen,
  denen die Bombardierten in Hiroshima und Nagasaki ausgesetzt waren in
  Texten und Bildern der Hibakusha (Überlebende der
  Atombombenabwürfe), aber auch von dem langen Kampf um Anerkennung
  durch die eigene Regierung. Sie informiert und erweckt beim Betrachter den
  dringenden Wunsch nach endgültiger Abschaffung aller Nuklearwaffen.
  Dies ist angesichts der Tatsache, dass heute nicht 2 sondern 10.000
  Nuklearsprengköpfe existieren, deren Vernichtungspotential  das der
  damaligen Atombomben weit übersteigen, umso drängender. Der durch
  zwei kaum einschätzbare Machthaber eskalierte Konflikt zwischen
  Nordkorea und den USA macht zudem deutlich, dass ein tatsächlicher
  Einsatz nicht mehr ausgeschlossen werden kann.\nDie Ausstellung wird am
  Montag, den 21. August 2017 um 17 Uhr im Bürgerforum des \nRathauses
  mit einem Vortrag von Prof. Dr. Eckhart Böhm, IPPNW, eröffnet und
  ist bis zum 1. September während der Rathausöffnungszeiten zu
  sehen.\n
CONTACT:Friedensgruppe Lüdenscheid\, Bernd Benscheidt\, Südstraße 50\, 58509 Lüdenscheid\, 02351 27521
LOCATION:Bürgerforum im Rathaus\, Rathausplatz 2\, 58507 Lüdenscheid
CATEGORIES:Friedensgruppe,Friedensgruppe
END:VEVENT
END:VCALENDAR