BEGIN:VCALENDAR
VERSION:2.0
METHOD:PUBLISH
PRODID:-//Event-List//NONSGML Event-List 5.0.1//DE
X-WR-TIMEZONE:Europe/Berlin
CALSCALE:GREGORIAN
BEGIN:VTIMEZONE
TZID:Europe/Berlin
BEGIN:DAYLIGHT
TZOFFSETFROM:+0100
TZOFFSETTO:+0200
DTSTART:19810329T020000
RRULE:FREQ=YEARLY;BYMONTH=3;BYDAY=-1SU
TZNAME:CEST
END:DAYLIGHT
BEGIN:STANDARD
TZOFFSETFROM:+0200
TZOFFSETTO:+0100
DTSTART:19961027T030000
RRULE:FREQ=YEARLY;BYMONTH=10;BYDAY=-1SU
TZNAME:CET
END:STANDARD
END:VTIMEZONE
BEGIN:VEVENT
DTSTAMP:20260426T050638
DTSTART:20170621T160000
DTEND:20170621T164500
UID:41@friedensgruppe-luedenscheid.de/calendar
CLASS:PUBLIC
SUMMARY:Einweihung des neuen Mahnmals Hunswinkel
DESCRIPTION:Bekanntlich wurde das Mahnmal Hunswinkel an der Klamer Brücke im
  September 2014 gestohlen. In Zusammearbeit mit der Stadt Lüdenscheid
  haben der Verein Ge-Denk-Zellen Altes Rathaus Lüdenscheid e.V. und die
  Friedensgruppe für ein neues Mahnmal gearbeitet. Am 21. Juni 2017 - 20
  Jahre nach der Einweihung des ursprünglichen Mahnmals von Heinz
  Richter - wird das neue Mahnmal im Rahmen eines Festaktes eingeweiht. Der
  Festakt beginnt um 16 Uhr. Es besteht die Möglichkeit, mit einem
  Sonderbus der MVG zur Versetalsperre zu fahren und in die Stadt
  zurückzukehren. Abfahrt ist um 15:30 Uhr ab ZOB Sauerfeld, oberer Teil
  der Busspur auf der Kirchenseite.
CONTACT:Stadt Lüdenscheid/Friedensgruppe/Ge-Denk-Zellen-Verein\, Rathausplatz 2\, 58507 Lüdenscheid
LOCATION:Wanderparkplatz Klamer Brücke\, L694\, 58515 Lüdenscheid
CATEGORIES:Friedensgruppe,Ge-Denk-Zellen
END:VEVENT
END:VCALENDAR